BEGIN:VCALENDAR
VERSION:2.0
PRODID:-//Billie - ECPv4.9.6//NONSGML v1.0//EN
CALSCALE:GREGORIAN
METHOD:PUBLISH
X-WR-CALNAME:Billie
X-ORIGINAL-URL:https://billiemag.ca
X-WR-CALDESC:Events for Billie
BEGIN:VTIMEZONE
TZID:"America/Sao_Paulo"
BEGIN:STANDARD
TZOFFSETFROM:-0200
TZOFFSETTO:-0300
TZNAME:-03
DTSTART:20190217T020000
END:STANDARD
END:VTIMEZONE
BEGIN:VEVENT
DTSTART;TZID="America/Sao_Paulo":20190711T190000
DTEND;TZID="America/Sao_Paulo":20190711T200000
DTSTAMP:20260425T174737
CREATED:20190621T134259Z
LAST-MODIFIED:20190621T134259Z
UID:428-1562871600-1562875200@billiemag.ca
SUMMARY:Artist Talk and Tour of Worn Inward
DESCRIPTION:Join the featured artists and curator of Worn Inward for an evening Talk and Tour in the exhibition space\, followed by an interactive Q&A discussion. \n
URL:https://billiemag.ca/event/artist-talk-and-tour-of-worn-inward/
LOCATION:Art Gallery of Nova Scotia\, 1723 Hollis Street\, Halifax\, Nova Scotia\, B3J 1V9\, Canada
CATEGORIES:Artist Talk
END:VEVENT
END:VCALENDAR