BEGIN:VCALENDAR
VERSION:2.0
PRODID:-//Billie - ECPv4.9.6//NONSGML v1.0//EN
CALSCALE:GREGORIAN
METHOD:PUBLISH
X-WR-CALNAME:Billie
X-ORIGINAL-URL:https://billiemag.ca
X-WR-CALDESC:Events for Billie
BEGIN:VTIMEZONE
TZID:"America/Sao_Paulo"
BEGIN:STANDARD
TZOFFSETFROM:-0200
TZOFFSETTO:-0300
TZNAME:-03
DTSTART:20190217T020000
END:STANDARD
END:VTIMEZONE
BEGIN:VEVENT
DTSTART;VALUE=DATE:20190518
DTEND;VALUE=DATE:20190729
DTSTAMP:20260421T082715
CREATED:20190612T192131Z
LAST-MODIFIED:20190617T142845Z
UID:350-1558137600-1564358399@billiemag.ca
SUMMARY:First You Dream: Celebrating 75 Years of the Nova Scotia Talent Trust
DESCRIPTION:Organized by MSVU Art Gallery in partnership with Cape Breton University Art Gallery and the Art Gallery of Nova Scotia. \nThe Nova Scotia Talent Trust was founded in 1944 and has been awarding scholarships to visual artists since 1949. To celebrate the NSTT 75th Anniversary\, First You Dream developed out of a call for entries to all scholarship recipients\, inviting submissions of recent work. The final exhibition selection resulted in a broad range of media\, including drawing\, ceramics\, fibre\, jewellery\, mixed-media\, painting\, printmaking\, sculpture and video. The generational mix of the artists (indicated by the dates of their Talent Trust scholarships) ranges from 1979 to 2016—a span of 37 years. The exhibition includes work by Jordan Broadworth\, Sandra Brownlee\, Lux Habrich\, Sara Hartland-Rowe\, Dan O’Neill\, Lucy Pullen\, Pamela Ritchie\, Despo Sophocleous\, Emily Vey Duke\, and Charley Young. \nThe Nova Scotia Talent Trust and partner galleries recognize the support of the Province of Nova Scotia through the Department of Communities\, Culture and Heritage. \n
URL:https://billiemag.ca/event/first-you-dream-celebrating-75-years-of-the-nova-scotia-talent-trust/
LOCATION:MSVU Art Gallery\, 166 Bedford Highway\, Halifax\, Nova Scotia\, B3M 2J6\, Canada
CATEGORIES:Exhibition
END:VEVENT
END:VCALENDAR