BEGIN:VCALENDAR
VERSION:2.0
PRODID:-//Billie - ECPv4.9.6//NONSGML v1.0//EN
CALSCALE:GREGORIAN
METHOD:PUBLISH
X-WR-CALNAME:Billie
X-ORIGINAL-URL:https://billiemag.ca
X-WR-CALDESC:Events for Billie
BEGIN:VTIMEZONE
TZID:"America/Sao_Paulo"
BEGIN:STANDARD
TZOFFSETFROM:-0200
TZOFFSETTO:-0300
TZNAME:-03
DTSTART:20190217T020000
END:STANDARD
END:VTIMEZONE
BEGIN:VEVENT
DTSTART;TZID="America/Sao_Paulo":20190625T173000
DTEND;TZID="America/Sao_Paulo":20190625T200000
DTSTAMP:20260425T223929
CREATED:20190621T134047Z
LAST-MODIFIED:20190621T134047Z
UID:426-1561483800-1561492800@billiemag.ca
SUMMARY:Annual General Meeting and Exhibition Launch
DESCRIPTION:Join us in celebrating a milestone year for the Art Gallery of Nova Scotia and to experience the exhibition\, Worn Inward. \n5:30 p.m. Opening remarks and overview of the 2018/2019 fiscal year in the Windsor Foundation Lecture Theatre. \n6:30 p.m. Opening reception for Worn Inward\, the response exhibition to Jordan Bennett’s Ketu’elmita’jik. \nWe look forward to welcoming you on June 25\, 2019 at the Art Gallery of Nova Scotia. \n
URL:https://billiemag.ca/event/annual-general-meeting-and-exhibition-launch/
LOCATION:Art Gallery of Nova Scotia\, 1723 Hollis Street\, Halifax\, Nova Scotia\, B3J 1V9\, Canada
END:VEVENT
END:VCALENDAR